BEGIN:VCALENDAR
VERSION:2.0
PRODID:-//AMA Lincoln - ECPv6.15.20//NONSGML v1.0//EN
CALSCALE:GREGORIAN
METHOD:PUBLISH
X-WR-CALNAME:AMA Lincoln
X-ORIGINAL-URL:https://www.amalincoln.org
X-WR-CALDESC:Events for AMA Lincoln
REFRESH-INTERVAL;VALUE=DURATION:PT1H
X-Robots-Tag:noindex
X-PUBLISHED-TTL:PT1H
BEGIN:VTIMEZONE
TZID:America/Chicago
BEGIN:DAYLIGHT
TZOFFSETFROM:-0600
TZOFFSETTO:-0500
TZNAME:CDT
DTSTART:20210314T080000
END:DAYLIGHT
BEGIN:STANDARD
TZOFFSETFROM:-0500
TZOFFSETTO:-0600
TZNAME:CST
DTSTART:20211107T070000
END:STANDARD
BEGIN:DAYLIGHT
TZOFFSETFROM:-0600
TZOFFSETTO:-0500
TZNAME:CDT
DTSTART:20220313T080000
END:DAYLIGHT
BEGIN:STANDARD
TZOFFSETFROM:-0500
TZOFFSETTO:-0600
TZNAME:CST
DTSTART:20221106T070000
END:STANDARD
BEGIN:DAYLIGHT
TZOFFSETFROM:-0600
TZOFFSETTO:-0500
TZNAME:CDT
DTSTART:20230312T080000
END:DAYLIGHT
BEGIN:STANDARD
TZOFFSETFROM:-0500
TZOFFSETTO:-0600
TZNAME:CST
DTSTART:20231105T070000
END:STANDARD
END:VTIMEZONE
BEGIN:VEVENT
DTSTART;TZID=America/Chicago:20220324T160000
DTEND;TZID=America/Chicago:20220324T170000
DTSTAMP:20260420T051801
CREATED:20220228T192606Z
LAST-MODIFIED:20220228T192606Z
UID:15350-1648137600-1648141200@www.amalincoln.org
SUMMARY:Let's Talk - Nonprofit Annual Report | Roundtable with Kiersten Hill
DESCRIPTION:Join us for a casual\, freeform discussion focusing on your thoughts\, ideas\, best practices and plans related to the art of Annual Report\n\n\nNote: This is a casual discussion so bring your thoughts\, advice and questions!  \nThis event is limited to 15 participants so register early! \nDescription \nHow does an organization determine if they should create an annual report? If you create an annual report\, what should be included and what should be left out? \nCome and share your thoughts\, ideas\, best practices and plans related to the art of Annual Reports. \nBio \nKiersten Hill is a Nebraska-native born and raised in North Platte. She graduated from the University of Nebraska-Lincoln. With almost 2 decades in nonprofit management and fundraising\, she has raised over $20 Million for Nebraska nonprofit organizations and worked to better train and equip nonprofit leaders and Boards of Directors. \nKiersten has served on the board of directors for a number of organizations. She was a Midland’s Business Journal 40 Under 40 award winner and was recognized as the 2013 Lincoln Nonprofit Executive of the Year. She frequently speaks to nonprofit groups and other organizations about fundraising\, board development and organizational change and using StoryBrand to clarify their message. Kiersten\, her husband Chad and their thirteen-year-old son Cooper live in Seward\, Nebraska\, with two large dogs and one tiny cat. She has a passion for Lincoln\, networking\, fundraising and nonprofit organizations.
URL:https://www.amalincoln.org/event/lets-talk-nonprofit-annual-report-roundtable-with-kiersten-hill/
LOCATION:Firespring\, 1201 Infinity Court\, Lincoln\, NE 68512\, Lincoln\, NE\, 68512\, US
CATEGORIES:Round Tables
ATTACH;FMTTYPE=image/png:https://www.amalincoln.org/wp-content/uploads/2022/02/15350_image.png
END:VEVENT
END:VCALENDAR