BEGIN:VCALENDAR
VERSION:2.0
PRODID:-//AMA Lincoln - ECPv6.15.20//NONSGML v1.0//EN
CALSCALE:GREGORIAN
METHOD:PUBLISH
X-WR-CALNAME:AMA Lincoln
X-ORIGINAL-URL:https://www.amalincoln.org
X-WR-CALDESC:Events for AMA Lincoln
REFRESH-INTERVAL;VALUE=DURATION:PT1H
X-Robots-Tag:noindex
X-PUBLISHED-TTL:PT1H
BEGIN:VTIMEZONE
TZID:Africa/Abidjan
BEGIN:STANDARD
TZOFFSETFROM:+0000
TZOFFSETTO:+0000
TZNAME:GMT
DTSTART:20250101T000000
END:STANDARD
END:VTIMEZONE
BEGIN:VEVENT
DTSTART;TZID=Africa/Abidjan:20260218T160000
DTEND;TZID=Africa/Abidjan:20260218T180000
DTSTAMP:20260423T044645
CREATED:20260115T132547Z
LAST-MODIFIED:20260115T132615Z
UID:18480-1771430400-1771437600@www.amalincoln.org
SUMMARY:Skill School: Agency Mix & Mingle
DESCRIPTION:Join us for an exciting networking event to make new connections with Lincoln marketers.\n\n\nThe Agency Mix and Mingle provides a unique opportunity for young talent in the Lincoln marketing + creative community: a low-pressure environment to network\, learn about local career opportunities\, and gain insight and advice from industry experts. \nThe Agency Mix & Mingle is an opportunity for agencies and organizations in Lincoln to invest in the next generation of marketing professionals and retain local talent. \nWe hope you will join us for an evening of conversation\, networking\, and building the future of the Lincoln marketing community. \nLight snacks and refreshments will be provided to keep you fueled for a night of conversation and connection. \nWhether you’re looking to hire\, get hired\, or just build new relationships within the marketing + creative community in Lincoln\, AMA’s Agency Mix & Mingle is for you! \n \nMark your calendars: ️ \nDate: February 18\, 2026 \nTime: 4:00 pm – 6:00 pm \nLocation: The Agency (3rd Floor of the Lincoln Children’s Museum)1420 P St.\, Lincoln\, NE 68508 *Please use the entrance located on the East side of the building. You can then take the stairs or elevator to the 3rd floor. Metered street parking is available on P Street\, garage parking is available at University Square Garage\, and free parking is available in the Andersen Hall lot starting at 5 pm. \n \n🌟 Spread the word! Share this with your marketing friends and colleagues\, and let’s make this Lincoln’s marketing community’s hottest event!
URL:https://www.amalincoln.org/event/skill-school-agency-mix-mingle-5/
LOCATION:The Agency (3rd Floor of the Lincoln Children’s Museum)\, 1420 P St.\, Lincoln\, NE 68508\, Lincoln\, NE\, 68508\, US
CATEGORIES:AMA SkillSchool
ATTACH;FMTTYPE=image/jpeg:https://www.amalincoln.org/wp-content/uploads/2026/01/18480_image.jpg
END:VEVENT
BEGIN:VEVENT
DTSTART;TZID=Africa/Abidjan:20260227T130000
DTEND;TZID=Africa/Abidjan:20260227T150000
DTSTAMP:20260423T044645
CREATED:20260212T012031Z
LAST-MODIFIED:20260225T133546Z
UID:18513-1772197200-1772204400@www.amalincoln.org
SUMMARY:Skill School: Digital Accessibility
DESCRIPTION:ORDER TICKETS HERE: https://www.eventbrite.com/e/skill-school-digital-accessibility-tickets-1982851900411 \nLearn digital accessibility best practices to improve UX\, expand reach\, and support ADA Title II compliance.\n\n\nDesigning for Everyone: Expand Your Reach with Digital Accessibility \n  \nUser experience is often considered from the perspective of someone navigating digital content visually while using a mouse (for a computer) or finger (for mobile)\, but this ignores the experiences of a wide range of potential users. Digital Accessibility is about leveraging features available within platforms to meet the needs of the widest possible user base\, including those that may be using screen readers or keyboard navigation. As an added benefit\, the features enabled by digital accessibility often benefit all users! For example\, when you add accurate captioning to videos\, it not only provides essential information for those deaf or hard of hearing\, but also helps people watching in a loud environment or non-native English speakers. This session will also assist organizations in understanding and supporting ADA Title II compliance. In this workshop\, you will learn about best-practices of digital accessibility as well as how different types of users can be negatively impacted if those practices aren’t followed. \n  \nKey Takeaways: \n\nUnderstand key digital accessibility principles and why they’re important for user experience.\nKnow how to implement those principles in a range of platforms including web\, social media\, and audio/video.\nKnow key resources for continued learning so you can implement digital accessibility given your specific context.\n\n  \nSpeaker Bios: \nDr. Amy Ort is a senior instructional designer at UNL’s Center for Transformative Teaching where her role is to teach faculty about teaching best practices to help improve the quality of education at the university. She has developed workshops and web resources on digital accessibility\, artificial intelligence (AI)\, inclusive teaching\, and the scholarship of teaching. She holds a PhD in cognitive psychology from UNL. \nAaron Coleman is a Senior Web Developer in the Digital Experience Group where he helps develop and maintain unl.edu and numerous other websites. He has developed training and documentation for the web community and is part of Web Developer Network Shared Governance Board\, guiding design and development practices for the university. \n  \nSponsored By: \nUniversity of Nebraska College of Journalism and Mass Communications \n  \nParking Information: \nMetered street parking and garage parking are available.
URL:https://www.amalincoln.org/event/skill-school-digital-accessibility/
LOCATION:The Agency (3rd Floor of the Lincoln Children’s Museum)\, 1420 P St.\, Lincoln\, NE 68508\, Lincoln\, NE\, 68508\, US
CATEGORIES:AMA SkillSchool
ATTACH;FMTTYPE=image/jpeg:https://www.amalincoln.org/wp-content/uploads/2026/02/SkillSchool-February-2026-.jpg
END:VEVENT
END:VCALENDAR