BEGIN:VCALENDAR
VERSION:2.0
PRODID:-//AMA Lincoln - ECPv6.15.20//NONSGML v1.0//EN
CALSCALE:GREGORIAN
METHOD:PUBLISH
X-WR-CALNAME:AMA Lincoln
X-ORIGINAL-URL:https://www.amalincoln.org
X-WR-CALDESC:Events for AMA Lincoln
REFRESH-INTERVAL;VALUE=DURATION:PT1H
X-Robots-Tag:noindex
X-PUBLISHED-TTL:PT1H
BEGIN:VTIMEZONE
TZID:Africa/Abidjan
BEGIN:STANDARD
TZOFFSETFROM:+0000
TZOFFSETTO:+0000
TZNAME:GMT
DTSTART:20250101T000000
END:STANDARD
END:VTIMEZONE
BEGIN:VEVENT
DTSTART;TZID=Africa/Abidjan:20260430T090000
DTEND;TZID=Africa/Abidjan:20260430T100000
DTSTAMP:20260421T064715
CREATED:20260102T184515Z
LAST-MODIFIED:20260312T013459Z
UID:18422-1777539600-1777543200@www.amalincoln.org
SUMMARY:AMA Lincoln Coffee Happy Hour at Stories Coffee Co.
DESCRIPTION:Join us at Stories Coffee Co. for an informal get-together with other marketers in our community.\n\n\nLooking to start your day with a hot cup of inspiration? Looking to connect with local marketers? \nJoin us at Stories Coffee Co. (inside Union Bank Place) on April 30 from 9 to 10 a.m. for some caffeine and conversation! \nNote: To be respectful of our local coffee shops\, Coffee Happy Hours are capped at 15 attendees. Please register so that we know how many to expect\, and we’ll see you there. \n \nParking Info: \nMetered street parking and parking garages are available near Stories Coffee.
URL:https://www.amalincoln.org/event/ama-lincoln-coffee-happy-hour-at-stories-coffee-co-3/
LOCATION:Stories Coffee Company\, 1248 O Street\, Lincoln\, NE 68508\, Lincoln\, NE\, 68508\, US
CATEGORIES:Social Events
ATTACH;FMTTYPE=image/png:https://www.amalincoln.org/wp-content/uploads/2026/01/18422_image.png
END:VEVENT
END:VCALENDAR